Workbook

Sheet SUMMARY
A2: COST SUMMARY
B4: ='BASE ESTIMATE'!J4 -> Project Name: | C4: PLAINFIELD PUBLIC LIBRARY - ATRIUM INFILL
B5: ='BASE ESTIMATE'!J5 -> Location: | C5: HIDDEN DUE TO PRIVACY POLICY
B6: ='BASE ESTIMATE'!J6 -> Date: | C6: 45804
B7: ='BASE ESTIMATE'!J7 -> Project Type: | C7: ='BASE ESTIMATE'!K7 -> COMMERCIAL
B8: ='BASE ESTIMATE'!J8 -> Scope of Work: | C8: ='BASE ESTIMATE'!K8 -> HVAC
B10: CSI Summary for Base Bid
B12: Div. No. | C12: CSI Division | D12: Labor Cost | E12: Material Cost | F12: Equipment Cost | G12: Total Cost | H12: % of sub-total cost
B13: DIV.01 | C13: GENERAL CONDITIONS | D13: =SUM('BASE ESTIMATE'!N13:N21) -> 0 | E13: =SUM('BASE ESTIMATE'!R13:R21) -> 0 | F13: =SUM('BASE ESTIMATE'!P13:P21) -> 0 | G13: =D13+E13+F13 -> 0 | H13: =G13/G16 -> #DIV/0!
B14: ='BASE ESTIMATE'!D22 -> DIV.02 | C14: ='BASE ESTIMATE'!E22 -> EXISTING CONDITIONS | D14: =SUM('BASE ESTIMATE'!N23:N29) -> 0 | E14: =SUM('BASE ESTIMATE'!R23:R29) -> 0 | F14: =SUM('BASE ESTIMATE'!P23:P29) -> 0 | G14: =D14+E14+F14 -> 0 | H14: =G14/G17 -> #DIV/0!
B15: ='BASE ESTIMATE'!D30 -> DIV.23 | C15: ='BASE ESTIMATE'!E30 -> HVAC | D15: =SUM('BASE ESTIMATE'!N31:N72) -> 0 | E15: =SUM('BASE ESTIMATE'!R31:R72) -> 0 | F15: =SUM('BASE ESTIMATE'!P31:P72) -> 0 | G15: =D15+E15+F15 -> 0 | H15: =G15/G16 -> #DIV/0!
C16: ='BASE ESTIMATE'!A73 -> SUB TOTAL | D16: =SUM(D13:D15) -> 0 | E16: =SUM(E13:E15) -> 0 | F16: =SUM(F13:F15) -> 0 | G16: =SUM(G13:G15) -> 0
C17: MATERIAL TAX (8.5%) | E17: ='BASE ESTIMATE'!T74 -> 0 | G17: =E17 -> 0
C18: PROFIT (20%) | G18: ='BASE ESTIMATE'!U75 -> 0
C19: ='BASE ESTIMATE'!A77 -> TOTAL BASE BID | G19: =SUM(G16:G18) -> 0

Sheet BASE ESTIMATE
A1: SR # | B1: REFERENCE SHEET | C1: DETAIL SHEET | D1: CSI SECT | E1: DESCRIPTION | F1: QTY. | G1: WASTAGE | H1: QTY WITH WASTAGE | I1: UNIT OF MEASURMENT | J1: UNIT LABOR HOURS | K1: TOTAL LABOR HOURS | L1: PER HOUR LABOR WAGE | M1: UNIT LABOR COST | N1: TOTAL LABOR COST | O1: BARE EQUIPMENT COST | P1: TOTAL EQUIPMENT COST | Q1: UNIT MATERIAL COST | R1: TOTAL MATERIAL COST | S1: UNIT COST (Lab+Mat+Equip.) | T1: TOTAL ITEM COST | U1: TOTAL TRADE COST
A2: Estimate of Materials and Cost of Construction
J4: Project Name: | K4: PLAINFIELD PUBLIC LIBRARY - ATRIUM INFILL
J5: Location: | K5: HIDDEN DUE TO PRIVACY POLICY
J6: Date: | K6: 45804
J7: Project Type: | K7: COMMERCIAL
J8: Scope of Work: | K8: HVAC
A10: SR # | B10: REFERENCE SHEET | C10: DETAIL SHEET | D10: CSI SECT | E10: DESCRIPTION | F10: QTY. | G10: WASTAGE | H10: QTY WITH WASTAGE | I10: UNIT OF MEASURMENT | J10: UNIT LABOR HOURS | K10: TOTAL LABOR HOURS | L10: PER HOUR LABOR WAGE | M10: UNIT LABOR COST | N10: TOTAL LABOR COST | O10: BARE EQUIPMENT COST | P10: TOTAL EQUIPMENT COST | Q10: UNIT MATERIAL COST | R10: TOTAL MATERIAL COST | S10: UNIT COST (Lab+Mat+Equip.) | T10: TOTAL ITEM COST | U10: TOTAL TRADE COST
D12: DIV.01 | E12: GENERAL REQUIREMENTS | U12: =SUM(T14:T21) -> 0
E14: Project Management & Supervision
A15: =IF(I15<>"",1+MAX($A$2:A14),"")
A16: =IF(I16<>"",1+MAX($A$2:A15),"") -> 1 | E16: Project Management & Supervision | F16: 1 | G16: 0 | H16: =F16*(1+G16) -> 1 | I16: LS | J16: 0 | K16: =J16*H16 -> 0 | L16: 0 | M16: =L16*J16 -> 0 | N16: =L16*K16 -> 0 | O16: 0 | P16: =O16*H16 -> 0 | Q16: 0 | R16: =Q16*H16 -> 0 | S16: =M16+O16+Q16 -> 0 | T16: =S16*H16 -> 0
A17: =IF(I17<>"",1+MAX($A$2:A16),"")
A18: =IF(I18<>"",1+MAX($A$2:A17),"") | E18: Equipment and Tools
A19: =IF(I19<>"",1+MAX($A$2:A18),"")
A20: =IF(I20<>"",1+MAX($A$2:A19),"") -> 2 | E20: Mobilization/Demobilization (Temporary Control & Facilities) | F20: 1 | G20: 0 | H20: =F20*(1+G20) -> 1 | I20: LS | J20: 0 | K20: =J20*H20 -> 0 | L20: 0 | M20: =L20*J20 -> 0 | N20: =L20*K20 -> 0 | O20: 0 | P20: =O20*H20 -> 0 | Q20: 0 | R20: =Q20*H20 -> 0 | S20: =M20+O20+Q20 -> 0 | T20: =S20*H20 -> 0
A21: =IF(I21<>"",1+MAX($A$2:A20),"")
A22: =IF(I22<>"",1+MAX($A$2:A21),"") | D22: DIV.02 | E22: EXISTING CONDITIONS | U22: =SUM(T29:T29) -> 0
A23: =IF(I23<>"",1+MAX($A$2:A22),"")
A24: =IF(I24<>"",1+MAX($A$2:A23),"") | E24: Demolition
A25: =IF(I25<>"",1+MAX($A$2:A24),"")
A26: =IF(I26<>"",1+MAX($A$2:A25),"") -> 3 | B26: M0.001 TO FA.102 | C26: M0.001 TO FA.102 | E26: Remove Existing Lighting | F26: 45 | G26: 0 | H26: =F26*(1+G26) -> 45 | I26: EA | J26: 0 | K26: =J26*H26 -> 0 | L26: 0 | M26: =L26*J26 -> 0 | N26: =L26*K26 -> 0 | O26: 0 | P26: =O26*H26 -> 0 | Q26: 0 | R26: =Q26*H26 -> 0 | S26: =M26+O26+Q26 -> 0 | T26: =S26*H26 -> 0
A27: =IF(I27<>"",1+MAX($A$2:A26),"") -> 4 | B27: M0.001 TO FA.102 | C27: M0.001 TO FA.102 | E27: Remove Return registers | F27: 10 | G27: 0 | H27: =F27*(1+G27) -> 10 | I27: EA | J27: 0 | K27: =J27*H27 -> 0 | L27: 0 | M27: =L27*J27 -> 0 | N27: =L27*K27 -> 0 | O27: 0 | P27: =O27*H27 -> 0 | Q27: 0 | R27: =Q27*H27 -> 0 | S27: =M27+O27+Q27 -> 0 | T27: =S27*H27 -> 0
A28: =IF(I28<>"",1+MAX($A$2:A27),"") -> 5 | B28: M0.001 TO FA.102 | C28: M0.001 TO FA.102 | E28: Remove Registers | F28: 1 | G28: 0 | H28: =F28*(1+G28) -> 1 | I28: EA | J28: 0 | K28: =J28*H28 -> 0 | L28: 0 | M28: =L28*J28 -> 0 | N28: =L28*K28 -> 0 | O28: 0 | P28: =O28*H28 -> 0 | Q28: 0 | R28: =Q28*H28 -> 0 | S28: =M28+O28+Q28 -> 0 | T28: =S28*H28 -> 0
A29: =IF(I29<>"",1+MAX($A$2:A28),"")
A30: =IF(I30<>"",1+MAX($A$2:A29),"") | D30: DIV.23 | E30: HVAC | U30: =SUM(T32:T72) -> 0
A31: =IF(I31<>"",1+MAX($A$2:A30),"")
A32: =IF(I32<>"",1+MAX($A$2:A31),"") | E32: HVAC
A33: =IF(I33<>"",1+MAX($A$2:A32),"")
A34: =IF(I34<>"",1+MAX($A$2:A33),"") | E34: Pipes
A35: =IF(I35<>"",1+MAX($A$2:A34),"") -> 6 | B35: M0.001 TO FA.102 | C35: M0.001 TO FA.102 | E35: 3/4" Cold Water Pipe | F35: 92.81 | G35: 0.05 | H35: =F35*(1+G35) -> 97.4505 | I35: LF | J35: 0 | K35: =J35*H35 -> 0 | L35: 0 | M35: =L35*J35 -> 0 | N35: =L35*K35 -> 0 | O35: 0 | P35: =O35*H35 -> 0 | Q35: 0 | R35: =Q35*H35 -> 0 | S35: =M35+O35+Q35 -> 0 | T35: =S35*H35 -> 0
A36: =IF(I36<>"",1+MAX($A$2:A35),"") -> 7 | B36: M0.001 TO FA.102 | C36: M0.001 TO FA.102 | E36: Refrigerant Piping (5/8" gas) | F36: 191.75 | G36: 0.05 | H36: =F36*(1+G36) -> 201.3375 | I36: LF | J36: 0 | K36: =J36*H36 -> 0 | L36: 0 | M36: =L36*J36 -> 0 | N36: =L36*K36 -> 0 | O36: 0 | P36: =O36*H36 -> 0 | Q36: 0 | R36: =Q36*H36 -> 0 | S36: =M36+O36+Q36 -> 0 | T36: =S36*H36 -> 0
A37: =IF(I37<>"",1+MAX($A$2:A36),"") -> 8 | B37: M0.001 TO FA.102 | C37: M0.001 TO FA.102 | E37: Refrigerant Piping (3/8" Liquid) | F37: 191.75 | G37: 0.05 | H37: =F37*(1+G37) -> 201.3375 | I37: LF | J37: 0 | K37: =J37*H37 -> 0 | L37: 0 | M37: =L37*J37 -> 0 | N37: =L37*K37 -> 0 | O37: 0 | P37: =O37*H37 -> 0 | Q37: 0 | R37: =Q37*H37 -> 0 | S37: =M37+O37+Q37 -> 0 | T37: =S37*H37 -> 0
A38: =IF(I38<>"",1+MAX($A$2:A37),"")
A39: =IF(I39<>"",1+MAX($A$2:A38),"") | E39: Ductwork
A40: =IF(I40<>"",1+MAX($A$2:A39),"") -> 9 | B40: M0.001 TO FA.102 | C40: M0.001 TO FA.102 | E40: 4" Dia Ductwork | F40: 63.36 | G40: 0.05 | H40: =F40*(1+G40) -> 66.528 | I40: LF | J40: 0 | K40: =J40*H40 -> 0 | L40: 0 | M40: =L40*J40 -> 0 | N40: =L40*K40 -> 0 | O40: 0 | P40: =O40*H40 -> 0 | Q40: 0 | R40: =Q40*H40 -> 0 | S40: =M40+O40+Q40 -> 0 | T40: =S40*H40 -> 0
A41: =IF(I41<>"",1+MAX($A$2:A40),"") -> 10 | B41: M0.001 TO FA.102 | C41: M0.001 TO FA.102 | E41: 10x6 Ductwork | F41: 159.97 | G41: 0.05 | H41: =F41*(1+G41) -> 167.9685 | I41: LF | J41: 0 | K41: =J41*H41 -> 0 | L41: 0 | M41: =L41*J41 -> 0 | N41: =L41*K41 -> 0 | O41: 0 | P41: =O41*H41 -> 0 | Q41: 0 | R41: =Q41*H41 -> 0 | S41: =M41+O41+Q41 -> 0 | T41: =S41*H41 -> 0
A42: =IF(I42<>"",1+MAX($A$2:A41),"") -> 11 | B42: M0.001 TO FA.102 | C42: M0.001 TO FA.102 | E42: 10x10 Ductwork | F42: 181.12 | G42: 0.05 | H42: =F42*(1+G42) -> 190.176 | I42: LF | J42: 0 | K42: =J42*H42 -> 0 | L42: 0 | M42: =L42*J42 -> 0 | N42: =L42*K42 -> 0 | O42: 0 | P42: =O42*H42 -> 0 | Q42: 0 | R42: =Q42*H42 -> 0 | S42: =M42+O42+Q42 -> 0 | T42: =S42*H42 -> 0
A43: =IF(I43<>"",1+MAX($A$2:A42),"") -> 12 | B43: M0.001 TO FA.102 | C43: M0.001 TO FA.102 | E43: 12x8 Ductwork | F43: 19.5 | G43: 0.05 | H43: =F43*(1+G43) -> 20.475 | I43: LF | J43: 0 | K43: =J43*H43 -> 0 | L43: 0 | M43: =L43*J43 -> 0 | N43: =L43*K43 -> 0 | O43: 0 | P43: =O43*H43 -> 0 | Q43: 0 | R43: =Q43*H43 -> 0 | S43: =M43+O43+Q43 -> 0 | T43: =S43*H43 -> 0
A44: =IF(I44<>"",1+MAX($A$2:A43),"") -> 13 | B44: M0.001 TO FA.102 | C44: M0.001 TO FA.102 | E44: 14x14 Ductwork | F44: 2.32 | G44: 0.05 | H44: =F44*(1+G44) -> 2.436 | I44: LF | J44: 0 | K44: =J44*H44 -> 0 | L44: 0 | M44: =L44*J44 -> 0 | N44: =L44*K44 -> 0 | O44: 0 | P44: =O44*H44 -> 0 | Q44: 0 | R44: =Q44*H44 -> 0 | S44: =M44+O44+Q44 -> 0 | T44: =S44*H44 -> 0
...
