Workbook

Sheet PLUMBING ESTIMATE
A1: ESTIMATE OF MATERIALS AND COST OF CONSTRUCTION
B3: PROJECT: | C3: DENNY'S REMODEL | N3: SUBTOTAL | P3: =P16 -> 0
B4: ADDRESS: | C4: Hidden due to privacy policy | M4: OVERHEAD & PROFIT - 25% | P4: =0.25*P3 -> 0
B5: SCOPE: | C5: PLUMBING | N5: TOTAL BID | P5: =SUM(P3:P4) -> 0
B6: DATE | C6: 45636
B8: 86 | C8: HOURLY RATE
A10: PROJECT SUMMARY
B11: CSI DIV. | C11: DESCRIPTION | P11: TOTAL TRADE COST
B13: DIV. 01 | C13: ='PLUMBING ESTIMATE'!C22 -> GENERAL REQUIREMENTS | P13: ='PLUMBING ESTIMATE'!P22 -> 0
A14: =IF(G14<>"",1+MAX($A$2:A13),"") | B14: ='PLUMBING ESTIMATE'!B27 -> DIV. 22 | C14: ='PLUMBING ESTIMATE'!C27 -> PLUMBING | P14: ='PLUMBING ESTIMATE'!P27 -> 0
A15: =IF(G15<>"",1+MAX($A$2:A14),"")
N16: SUBTOTAL | P16: =SUM(P13:P15) -> 0
N17: OVERHEAD & PROFIT - 25% | P17: =0.25*P16 -> 0
N18: TOTAL BID | P18: =SUM(P16:P17) -> 0
A20: DETAILED ESTIMATE
A21: SR # | B21: CSI DIV. | C21: DESCRIPTION | D21: QTY. | E21: WASTAGE | F21: QTY WITH WASTAGE | G21: UNIT | H21: UNIT MATERIAL COST | I21: TOTAL MATERIAL COST | J21: UNIT LABOR HOURS | K21: TOTAL LABOR HOURS | L21: UNIT LABOR COST | M21: TOTAL LABOR COST | N21: UNIT COST | O21: TOTAL ITEM COST | P21: TOTAL TRADE COST
B22: DIV. 01 | C22: GENERAL REQUIREMENTS | P22: =SUM(O24:O25) -> 0
C23: GENERAL CONDITIONS COST WILL BE ADDED BY CONTRACTOR AS PER SITE REQUIRMENTS
A24: =IF(E24<>"",1+MAX($A$21:A23),"") -> 1 | C24: Permits & Site Supervision Fee | D24: 1 | E24: 0 | F24: =D24*(1+E24) -> 1 | G24: LS | H24: 0 | I24: 0 | J24: 0 | K24: =J24*F24 -> 0 | L24: 0 | M24: 0 | N24: 0 | O24: 0
A25: =IF(E25<>"",1+MAX($A$21:A24),"") -> 2 | C25: Allowances | D25: 1 | E25: 0 | F25: =D25*(1+E25) -> 1 | G25: LS | H25: 0 | I25: 0 | J25: 0 | K25: =J25*F25 -> 0 | L25: 0 | M25: 0 | N25: 0 | O25: 0
A26: =IF(E26<>"",1+MAX($A$21:A25),"")
A27: =IF(E27<>"",1+MAX($A$21:A26),"") | B27: DIV. 22 | C27: PLUMBING | P27: =SUM(O29:O89) -> 0
A29: =IF(E29<>"",1+MAX($A$21:A27),"") | C29: DEMOLITION
A30: =IF(E30<>"",1+MAX($A$21:A29),"")
A31: =IF(E31<>"",1+MAX($A$21:A30),"") -> 3 | C31: Demolish Lavatory as LV | D31: 4 | E31: 0 | F31: =D31*(1+E31) -> 4 | G31: EA | H31: 0 | I31: =H31*F31 -> 0 | J31: 0 | K31: =J31*F31 -> 0 | L31: =J31*B$8 -> 0 | M31: =L31*F31 -> 0 | N31: =H31+L31 -> 0 | O31: =N31*F31 -> 0
A32: =IF(E32<>"",1+MAX($A$21:A31),"") -> 4 | C32: Demolish Urinal | D32: 2 | E32: 0 | F32: =D32*(1+E32) -> 2 | G32: EA | H32: 0 | I32: =H32*F32 -> 0 | J32: 0 | K32: =J32*F32 -> 0 | L32: =J32*B$8 -> 0 | M32: =L32*F32 -> 0 | N32: =H32+L32 -> 0 | O32: =N32*F32 -> 0
A33: =IF(E33<>"",1+MAX($A$21:A32),"") -> 5 | C33: Demolish Wall Cleanout as WCO | D33: 3 | E33: 0 | F33: =D33*(1+E33) -> 3 | G33: EA | H33: 0 | I33: =H33*F33 -> 0 | J33: 0 | K33: =J33*F33 -> 0 | L33: =J33*B$8 -> 0 | M33: =L33*F33 -> 0 | N33: =H33+L33 -> 0 | O33: =N33*F33 -> 0
A34: =IF(E34<>"",1+MAX($A$21:A33),"") -> 6 | C34: Demolish Water Closet as WC-1 | D34: 1 | E34: 0 | F34: =D34*(1+E34) -> 1 | G34: EA | H34: 0 | I34: =H34*F34 -> 0 | J34: 0 | K34: =J34*F34 -> 0 | L34: =J34*B$8 -> 0 | M34: =L34*F34 -> 0 | N34: =H34+L34 -> 0 | O34: =N34*F34 -> 0
A35: =IF(E35<>"",1+MAX($A$21:A34),"") -> 7 | C35: Demolish Water Closet as WC-2 | D35: 2 | E35: 0 | F35: =D35*(1+E35) -> 2 | G35: EA | H35: 0 | I35: =H35*F35 -> 0 | J35: 0 | K35: =J35*F35 -> 0 | L35: =J35*B$8 -> 0 | M35: =L35*F35 -> 0 | N35: =H35+L35 -> 0 | O35: =N35*F35 -> 0
A36: =IF(E36<>"",1+MAX($A$21:A35),"")
A37: =IF(E37<>"",1+MAX($A$21:A36),"") -> 8 | C37: WASTE PIPE | E37: SCH. 40 PVC Pipe
A38: =IF(E38<>"",1+MAX($A$21:A37),"")
A39: =IF(E39<>"",1+MAX($A$21:A38),"") -> 9 | C39: 2" Vent Pipe | D39: 40.61 | E39: 0.05 | F39: =D39*(1+E39) -> 42.6405 | G39: LF | H39: 0 | I39: =H39*F39 -> 0 | J39: 0 | K39: =J39*F39 -> 0 | L39: =J39*B$8 -> 0 | M39: =L39*F39 -> 0 | N39: =H39+L39 -> 0 | O39: =N39*F39 -> 0
A40: =IF(E40<>"",1+MAX($A$21:A39),"") -> 10 | C40: 2" Waste Pipe | D40: 40.2 | E40: 0.05 | F40: =D40*(1+E40) -> 42.21 | G40: LF | H40: 0 | I40: =H40*F40 -> 0 | J40: 0 | K40: =J40*F40 -> 0 | L40: =J40*B$8 -> 0 | M40: =L40*F40 -> 0 | N40: =H40+L40 -> 0 | O40: =N40*F40 -> 0
A41: =IF(E41<>"",1+MAX($A$21:A40),"")
A42: =IF(E42<>"",1+MAX($A$21:A41),"") -> 11 | C42: GAS PIPE | E42: SCH. 40 Black Steel
A43: =IF(E43<>"",1+MAX($A$21:A42),"")
A44: =IF(E44<>"",1+MAX($A$21:A43),"") -> 12 | C44: 1" Gas Pipe | D44: 8.53 | E44: 0.05 | F44: =D44*(1+E44) -> 8.9565 | G44: LF | H44: 0 | I44: =H44*F44 -> 0 | J44: 0 | K44: =J44*F44 -> 0 | L44: =J44*B$8 -> 0 | M44: =L44*F44 -> 0 | N44: =H44+L44 -> 0 | O44: =N44*F44 -> 0
A45: =IF(E45<>"",1+MAX($A$21:A44),"") -> 13 | C45: 1-1/2" Gas Pipe | D45: 10.9 | E45: 0.05 | F45: =D45*(1+E45) -> 11.445 | G45: LF | H45: 0 | I45: =H45*F45 -> 0 | J45: 0 | K45: =J45*F45 -> 0 | L45: =J45*B$8 -> 0 | M45: =L45*F45 -> 0 | N45: =H45+L45 -> 0 | O45: =N45*F45 -> 0
A46: =IF(E46<>"",1+MAX($A$21:A45),"") -> 14 | C46: 1-1/4" Gas Pipe | D46: 17.88 | E46: 0.05 | F46: =D46*(1+E46) -> 18.774 | G46: LF | H46: 0 | I46: =H46*F46 -> 0 | J46: 0 | K46: =J46*F46 -> 0 | L46: =J46*B$8 -> 0 | M46: =L46*F46 -> 0 | N46: =H46+L46 -> 0 | O46: =N46*F46 -> 0
A47: =IF(E47<>"",1+MAX($A$21:A46),"") -> 15 | C47: 3/4" Gas Pipe | D47: 6.16 | E47: 0.05 | F47: =D47*(1+E47) -> 6.468 | G47: LF | H47: 0 | I47: =H47*F47 -> 0 | J47: 0 | K47: =J47*F47 -> 0 | L47: =J47*B$8 -> 0 | M47: =L47*F47 -> 0 | N47: =H47+L47 -> 0 | O47: =N47*F47 -> 0
A48: =IF(E48<>"",1+MAX($A$21:A47),"")
A49: =IF(E49<>"",1+MAX($A$21:A48),"") -> 16 | C49: WATER PIPE | E49: TYPE L COPPER
A50: =IF(E50<>"",1+MAX($A$21:A49),"")
A51: =IF(E51<>"",1+MAX($A$21:A50),"") -> 17 | C51: 1/2" Hot Water Pipe | D51: 2.71 | E51: 0.05 | F51: =D51*(1+E51) -> 2.8455 | G51: LF | H51: 0 | I51: =H51*F51 -> 0 | J51: 0 | K51: =J51*F51 -> 0 | L51: =J51*B$8 -> 0 | M51: =L51*F51 -> 0 | N51: =H51+L51 -> 0 | O51: =N51*F51 -> 0
A52: =IF(E52<>"",1+MAX($A$21:A51),"") -> 18 | C52: 1/2" Sanitary Cold Water Pipe | D52: 7.14 | E52: 0.05 | F52: =D52*(1+E52) -> 7.497 | G52: LF | H52: 0 | I52: =H52*F52 -> 0 | J52: 0 | K52: =J52*F52 -> 0 | L52: =J52*B$8 -> 0 | M52: =L52*F52 -> 0 | N52: =H52+L52 -> 0 | O52: =N52*F52 -> 0
A53: =IF(E53<>"",1+MAX($A$21:A52),"") -> 19 | C53: 3/4" Hot Water Pipe | D53: 20.7 | E53: 0.05 | F53: =D53*(1+E53) -> 21.735 | G53: LF | H53: 0 | I53: =H53*F53 -> 0 | J53: 0 | K53: =J53*F53 -> 0 | L53: =J53*B$8 -> 0 | M53: =L53*F53 -> 0 | N53: =H53+L53 -> 0 | O53: =N53*F53 -> 0
A54: =IF(E54<>"",1+MAX($A$21:A53),"") -> 20 | C54: 3/4" Sanitary Cold Water Pipe | D54: 35.32 | E54: 0.05 | F54: =D54*(1+E54) -> 37.086 | G54: LF | H54: 0 | I54: =H54*F54 -> 0 | J54: 0 | K54: =J54*F54 -> 0 | L54: =J54*B$8 -> 0 | M54: =L54*F54 -> 0 | N54: =H54+L54 -> 0 | O54: =N54*F54 -> 0
A55: =IF(E55<>"",1+MAX($A$21:A54),"")
A56: =IF(E56<>"",1+MAX($A$21:A55),"") | C56: PLUMBING FIXTURE
A57: =IF(E57<>"",1+MAX($A$21:A56),"")
A58: =IF(E58<>"",1+MAX($A$21:A57),"") -> 21 | C58: Floor Sink as FS ZURN Z-1901, 12" SQUARE TOP, HALF GRATE COVER AND 8" DEEP WITH DOME STRAINER. EQUIVALENT FIXTURE ACCEPTABLE. | D58: 3 | E58: 0 | F58: =D58*(1+E58) -> 3 | G58: EA | H58: 0 | I58: =H58*F58 -> 0 | J58: 0 | K58: =J58*F58 -> 0 | L58: =J58*B$8 -> 0 | M58: =L58*F58 -> 0 | N58: =H58+L58 -> 0 | O58: =N58*F58 -> 0
A59: =IF(E59<>"",1+MAX($A$21:A58),"") -> 22 | C59: Floor Drain ZURN Z415B W/SEDIMENT BUCKET. TRAP PRIMER CONNECTION WHERE REQUIRED BY CODE. EQUIVALENT FIXTURE ACCEPTABLE | D59: 2 | E59: 0 | F59: =D59*(1+E59) -> 2 | G59: EA | H59: 0 | I59: =H59*F59 -> 0 | J59: 0 | K59: =J59*F59 -> 0 | L59: =J59*B$8 -> 0 | M59: =L59*F59 -> 0 | N59: =H59+L59 -> 0 | O59: =N59*F59 -> 0
A60: =IF(E60<>"",1+MAX($A$21:A59),"") -> 23 | C60: Lavatory as LV KOHLER PENNINGTON K-2196-8 W/ KOHLER TRITON K-7443-K FAUCET 2 GPM. ADA COMPLIANT. EQUIVALENT ACCEPTABLE. INSTALL WITH POWERS #LFG480 MIXING VALVE(ASSE 1070 LISTED). | D60: 4 | E60: 0 | F60: =D60*(1+E60) -> 4 | G60: EA | H60: 0 | I60: =H60*F60 -> 0 | J60: 0 | K60: =J60*F60 -> 0 | L60: =J60*B$8 -> 0 | M60: =L60*F60 -> 0 | N60: =H60+L60 -> 0 | O60: =N60*F60 -> 0
A61: =IF(E61<>"",1+MAX($A$21:A60),"") -> 24 | C61: Urinal AMERICAN STANDARD WALL MOUNTED URINAL WASHBROOK FLOWISE 0.125 GPF WITH MANUAL FLUSH VALVE 6590.503 | D61: 2 | E61: 0 | F61: =D61*(1+E61) -> 2 | G61: EA | H61: 0 | I61: =H61*F61 -> 0 | J61: 0 | K61: =J61*F61 -> 0 | L61: =J61*B$8 -> 0 | M61: =L61*F61 -> 0 | N61: =H61+L61 -> 0 | O61: =N61*F61 -> 0
A62: =IF(E62<>"",1+MAX($A$21:A61),"") -> 25 | C62: Wall Cleanout as WCO ZURN Z1441 WALL CLEANOUT W/SMOOTH ACCESS COVER EQUIVALENT FIXTURE ACCEPTABLE. | D62: 3 | E62: 0 | F62: =D62*(1+E62) -> 3 | G62: EA | H62: 0 | I62: =H62*F62 -> 0 | J62: 0 | K62: =J62*F62 -> 0 | L62: =J62*B$8 -> 0 | M62: =L62*F62 -> 0 | N62: =H62+L62 -> 0 | O62: =N62*F62 -> 0
A63: =IF(E63<>"",1+MAX($A$21:A62),"") -> 26 | C63: Water Closet as WC-1 KHOLER WELLCOMME FLUSH VALVE WATER CLOSET MODEL K-4350 WITH OPEN FRONT KOH | D63: 1 | E63: 0 | F63: =D63*(1+E63) -> 1 | G63: EA | H63: 0 | I63: =H63*F63 -> 0 | J63: 0 | K63: =J63*F63 -> 0 | L63: =J63*B$8 -> 0 | M63: =L63*F63 -> 0 | N63: =H63+L63 -> 0 | O63: =N63*F63 -> 0
A64: =IF(E64<>"",1+MAX($A$21:A63),"") -> 27 | C64: Water Closet as WC-2 KHOLER HIGHCLIFF FLUSH VALVE WATER CLOSET MODEL K-4368 ADA COMPLIANT WITH OPEN FRONT KOHLER LUSTRA MODEL K-4670 TOILET SEAT, INSTALL WITH | D64: 2 | E64: 0 | F64: =D64*(1+E64) -> 2 | G64: EA | H64: 0 | I64: =H64*F64 -> 0 | J64: 0 | K64: =J64*F64 -> 0 | L64: =J64*B$8 -> 0 | M64: =L64*F64 -> 0 | N64: =H64+L64 -> 0 | O64: =N64*F64 -> 0
A65: =IF(E65<>"",1+MAX($A$21:A64),"") -> 28 | C65: ASSE 1022 Listed Backflow Preventer | D65: 1 | E65: 0 | F65: =D65*(1+E65) -> 1 | G65: EA | H65: 0 | I65: =H65*F65 -> 0 | J65: 0 | K65: =J65*F65 -> 0 | L65: =J65*B$8 -> 0 | M65: =L65*F65 -> 0 | N65: =H65+L65 -> 0 | O65: =N65*F65 -> 0
A66: =IF(E66<>"",1+MAX($A$21:A65),"") -> 29 | C66: Automatic Gas Shutoff Valve | D66: 1 | E66: 0 | F66: =D66*(1+E66) -> 1 | G66: EA | H66: 0 | I66: =H66*F66 -> 0 | J66: 0 | K66: =J66*F66 -> 0 | L66: =J66*B$8 -> 0 | M66: =L66*F66 -> 0 | N66: =H66+L66 -> 0 | O66: =N66*F66 -> 0
A67: =IF(E67<>"",1+MAX($A$21:A66),"") -> 30 | C67: Dump Sink | D67: 2 | E67: 0 | F67: =D67*(1+E67) -> 2 | G67: EA | H67: 0 | I67: =H67*F67 -> 0 | J67: 0 | K67: =J67*F67 -> 0 | L67: =J67*B$8 -> 0 | M67: =L67*F67 -> 0 | N67: =H67+L67 -> 0 | O67: =N67*F67 -> 0
A68: =IF(E68<>"",1+MAX($A$21:A67),"") -> 31 | C68: Hand Sink as HS | D68: 2 | E68: 0 | F68: =D68*(1+E68) -> 2 | G68: EA | H68: 0 | I68: =H68*F68 -> 0 | J68: 0 | K68: =J68*F68 -> 0 | L68: =J68*B$8 -> 0 | M68: =L68*F68 -> 0 | N68: =H68+L68 -> 0 | O68: =N68*F68 -> 0
A69: =IF(E69<>"",1+MAX($A$21:A68),"") -> 32 | C69: Shutoff Valve | D69: 10 | E69: 0 | F69: =D69*(1+E69) -> 10 | G69: EA | H69: 0 | I69: =H69*F69 -> 0 | J69: 0 | K69: =J69*F69 -> 0 | L69: =J69*B$8 -> 0 | M69: =L69*F69 -> 0 | N69: =H69+L69 -> 0 | O69: =N69*F69 -> 0
A70: =IF(E70<>"",1+MAX($A$21:A69),"")
A71: =IF(E71<>"",1+MAX($A$21:A70),"") -> 33 | C71: WASTE PIPE FITTING | E71: PVC SOCKET FITTING ASTM D2665
A72: =IF(E72<>"",1+MAX($A$21:A71),"")
A73: =IF(E73<>"",1+MAX($A$21:A72),"") -> 34 | C73: 2" Elbow (45" Degree) | D73: 4 | E73: 0 | F73: =D73*(1+E73) -> 4 | G73: EA | H73: 0 | I73: =H73*F73 -> 0 | J73: 0 | K73: =J73*F73 -> 0 | L73: =J73*B$8 -> 0 | M73: =L73*F73 -> 0 | N73: =H73+L73 -> 0 | O73: =N73*F73 -> 0
A74: =IF(E74<>"",1+MAX($A$21:A73),"") -> 35 | C74: 2" Elbow (90" Degree) | D74: 2 | E74: 0 | F74: =D74*(1+E74) -> 2 | G74: EA | H74: 0 | I74: =H74*F74 -> 0 | J74: 0 | K74: =J74*F74 -> 0 | L74: =J74*B$8 -> 0 | M74: =L74*F74 -> 0 | N74: =H74+L74 -> 0 | O74: =N74*F74 -> 0
A75: =IF(E75<>"",1+MAX($A$21:A74),"") -> 36 | C75: 2" WYE | D75: 3 | E75: 0 | F75: =D75*(1+E75) -> 3 | G75: EA | H75: 0 | I75: =H75*F75 -> 0 | J75: 0 | K75: =J75*F75 -> 0 | L75: =J75*B$8 -> 0 | M75: =L75*F75 -> 0 | N75: =H75+L75 -> 0 | O75: =N75*F75 -> 0
A76: =IF(E76<>"",1+MAX($A$21:A75),"")
A77: =IF(E77<>"",1+MAX($A$21:A76),"") -> 37 | C77: WATER PIPE FITTING | E77: COPPER SOLDER JOINT FITTING ASME B16.22
A78: =IF(E78<>"",1+MAX($A$21:A77),"")
A79: =IF(E79<>"",1+MAX($A$21:A78),"") -> 38 | C79: 3/4" Elbow (90" Degree) | D79: 4 | E79: 0 | F79: =D79*(1+E79) -> 4 | G79: EA | H79: 0 | I79: =H79*F79 -> 0 | J79: 0 | K79: =J79*F79 -> 0 | L79: =J79*B$8 -> 0 | M79: =L79*F79 -> 0 | N79: =H79+L79 -> 0 | O79: =N79*F79 -> 0
A80: =IF(E80<>"",1+MAX($A$21:A79),"") -> 39 | C80: 3/4" Tee | D80: 11 | E80: 0 | F80: =D80*(1+E80) -> 11 | G80: EA | H80: 0 | I80: =H80*F80 -> 0 | J80: 0 | K80: =J80*F80 -> 0 | L80: =J80*B$8 -> 0 | M80: =L80*F80 -> 0 | N80: =H80+L80 -> 0 | O80: =N80*F80 -> 0
A81: =IF(E81<>"",1+MAX($A$21:A80),"")
A82: =IF(E82<>"",1+MAX($A$21:A81),"") -> 40 | C82: GAS PIPE FITTING | E82: COPPER SOLDER JOINT FITTING ASME B16.22
A83: =IF(E83<>"",1+MAX($A$21:A82),"")
A84: =IF(E84<>"",1+MAX($A$21:A83),"") -> 41 | C84: 1" Elbow (90" Degree) | D84: 1 | E84: 0 | F84: =D84*(1+E84) -> 1 | G84: EA | H84: 0 | I84: =H84*F84 -> 0 | J84: 0 | K84: =J84*F84 -> 0 | L84: =J84*B$8 -> 0 | M84: =L84*F84 -> 0 | N84: =H84+L84 -> 0 | O84: =N84*F84 -> 0
A85: =IF(E85<>"",1+MAX($A$21:A84),"") -> 42 | C85: 1" Tee | D85: 3 | E85: 0 | F85: =D85*(1+E85) -> 3 | G85: EA | H85: 0 | I85: =H85*F85 -> 0 | J85: 0 | K85: =J85*F85 -> 0 | L85: =J85*B$8 -> 0 | M85: =L85*F85 -> 0 | N85: =H85+L85 -> 0 | O85: =N85*F85 -> 0
A86: =IF(E86<>"",1+MAX($A$21:A85),"") -> 43 | C86: 1-1/2" Tee | D86: 1 | E86: 0 | F86: =D86*(1+E86) -> 1 | G86: EA | H86: 0 | I86: =H86*F86 -> 0 | J86: 0 | K86: =J86*F86 -> 0 | L86: =J86*B$8 -> 0 | M86: =L86*F86 -> 0 | N86: =H86+L86 -> 0 | O86: =N86*F86 -> 0
A87: =IF(E87<>"",1+MAX($A$21:A86),"") -> 44 | C87: 1-1/2" Tee | D87: 1 | E87: 0 | F87: =D87*(1+E87) -> 1 | G87: EA | H87: 0 | I87: =H87*F87 -> 0 | J87: 0 | K87: =J87*F87 -> 0 | L87: =J87*B$8 -> 0 | M87: =L87*F87 -> 0 | N87: =H87+L87 -> 0 | O87: =N87*F87 -> 0
A88: =IF(E88<>"",1+MAX($A$21:A87),"") -> 45 | C88: 1-1/4" Tee | D88: 4 | E88: 0 | F88: =D88*(1+E88) -> 4 | G88: EA | H88: 0 | I88: =H88*F88 -> 0 | J88: 0 | K88: =J88*F88 -> 0 | L88: =J88*B$8 -> 0 | M88: =L88*F88 -> 0 | N88: =H88+L88 -> 0 | O88: =N88*F88 -> 0
A89: =IF(E89<>"",1+MAX($A$21:A88),"")
A90: SUB TOTAL | P90: =SUM(P22:P89) -> 0
A91: OVERHEAD & PROFIT (25%) | O91: 0.25 | P91: =O91*P90 -> 0
A92: TOTAL BID | P92: =SUM(P90:P91) -> 0
