Workbook

Sheet PLUMBING ESTIMATE
A1: ESTIMATE OF MATERIALS AND COST OF CONSTRUCTION
B3: PROJECT: | C3: DENNY'S REMODEL | N3: SUBTOTAL | P3: =P16 -> 0
B4: ADDRESS: | C4: Hidden due to privacy policy | M4: OVERHEAD & PROFIT - 25% | P4: =0.25*P3 -> 0
B5: SCOPE: | C5: PLUMBING | N5: TOTAL BID | P5: =SUM(P3:P4) -> 0
B6: DATE | C6: 45636
B8: 86 | C8: HOURLY RATE
A10: PROJECT SUMMARY
B11: CSI DIV. | C11: DESCRIPTION | P11: TOTAL TRADE COST
B13: DIV. 01 | C13: ='PLUMBING ESTIMATE'!C22 -> GENERAL REQUIREMENTS | P13: ='PLUMBING ESTIMATE'!P22 -> 0
A14: =IF(G14<>"",1+MAX($A$2:A13),"") | B14: ='PLUMBING ESTIMATE'!B27 -> DIV. 22 | C14: ='PLUMBING ESTIMATE'!C27 -> PLUMBING | P14: ='PLUMBING ESTIMATE'!P27 -> 0
A15: =IF(G15<>"",1+MAX($A$2:A14),"")
N16: SUBTOTAL | P16: =SUM(P13:P15) -> 0
N17: OVERHEAD & PROFIT - 25% | P17: =0.25*P16 -> 0
N18: TOTAL BID | P18: =SUM(P16:P17) -> 0
A20: DETAILED ESTIMATE
A21: SR # | B21: CSI DIV. | C21: DESCRIPTION | D21: QTY. | E21: WASTAGE | F21: QTY WITH WASTAGE | G21: UNIT | H21: UNIT MATERIAL COST | I21: TOTAL MATERIAL COST | J21: UNIT LABOR HOURS | K21: TOTAL LABOR HOURS | L21: UNIT LABOR COST | M21: TOTAL LABOR COST | N21: UNIT COST | O21: TOTAL ITEM COST | P21: TOTAL TRADE COST
B22: DIV. 01 | C22: GENERAL REQUIREMENTS | P22: =SUM(O24:O25) -> 0
C23: GENERAL CONDITIONS COST WILL BE ADDED BY CONTRACTOR AS PER SITE REQUIRMENTS
A24: =IF(E24<>"",1+MAX($A$21:A23),"") -> 1 | C24: Permits & Site Supervision Fee | D24: 1 | E24: 0 | F24: =D24*(1+E24) -> 1 | G24: LS | H24: 0 | I24: 0 | J24: 0 | K24: =J24*F24 -> 0 | L24: 0 | M24: 0 | N24: 0 | O24: 0
A25: =IF(E25<>"",1+MAX($A$21:A24),"") -> 2 | C25: Allowances | D25: 1 | E25: 0 | F25: =D25*(1+E25) -> 1 | G25: LS | H25: 0 | I25: 0 | J25: 0 | K25: =J25*F25 -> 0 | L25: 0 | M25: 0 | N25: 0 | O25: 0
A26: =IF(E26<>"",1+MAX($A$21:A25),"")
A27: =IF(E27<>"",1+MAX($A$21:A26),"") | B27: DIV. 22 | C27: PLUMBING | P27: =SUM(O29:O89) -> 0
A29: =IF(E29<>"",1+MAX($A$21:A27),"") | C29: DEMOLITION
A30: =IF(E30<>"",1+MAX($A$21:A29),"")
A31: =IF(E31<>"",1+MAX($A$21:A30),"") -> 3 | C31: Demolish Lavatory as LV | D31: 4 | E31: 0 | F31: =D31*(1+E31) -> 4 | G31: EA | H31: 0 | I31: =H31*F31 -> 0 | J31: 0 | K31: =J31*F31 -> 0 | L31: =J31*B$8 -> 0 | M31: =L31*F31 -> 0 | N31: =H31+L31 -> 0 | O31: =N31*F31 -> 0
A32: =IF(E32<>"",1+MAX($A$21:A31),"") -> 4 | C32: Demolish Urinal | D32: 2 | E32: 0 | F32: =D32*(1+E32) -> 2 | G32: EA | H32: 0 | I32: =H32*F32 -> 0 | J32: 0 | K32: =J32*F32 -> 0 | L32: =J32*B$8 -> 0 | M32: =L32*F32 -> 0 | N32: =H32+L32 -> 0 | O32: =N32*F32 -> 0
A33: =IF(E33<>"",1+MAX($A$21:A32),"") -> 5 | C33: Demolish Wall Cleanout as WCO | D33: 3 | E33: 0 | F33: =D33*(1+E33) -> 3 | G33: EA | H33: 0 | I33: =H33*F33 -> 0 | J33: 0 | K33: =J33*F33 -> 0 | L33: =J33*B$8 -> 0 | M33: =L33*F33 -> 0 | N33: =H33+L33 -> 0 | O33: =N33*F33 -> 0
A34: =IF(E34<>"",1+MAX($A$21:A33),"") -> 6 | C34: Demolish Water Closet as WC-1 | D34: 1 | E34: 0 | F34: =D34*(1+E34) -> 1 | G34: EA | H34: 0 | I34: =H34*F34 -> 0 | J34: 0 | K34: =J34*F34 -> 0 | L34: =J34*B$8 -> 0 | M34: =L34*F34 -> 0 | N34: =H34+L34 -> 0 | O34: =N34*F34 -> 0
A35: =IF(E35<>"",1+MAX($A$21:A34),"") -> 7 | C35: Demolish Water Closet as WC-2 | D35: 2 | E35: 0 | F35: =D35*(1+E35) -> 2 | G35: EA | H35: 0 | I35: =H35*F35 -> 0 | J35: 0 | K35: =J35*F35 -> 0 | L35: =J35*B$8 -> 0 | M35: =L35*F35 -> 0 | N35: =H35+L35 -> 0 | O35: =N35*F35 -> 0
A36: =IF(E36<>"",1+MAX($A$21:A35),"")
A37: =IF(E37<>"",1+MAX($A$21:A36),"") -> 8 | C37: WASTE PIPE | E37: SCH. 40 PVC Pipe
A38: =IF(E38<>"",1+MAX($A$21:A37),"")
A39: =IF(E39<>"",1+MAX($A$21:A38),"") -> 9 | C39: 2" Vent Pipe | D39: 40.61 | E39: 0.05 | F39: =D39*(1+E39) -> 42.6405 | G39: LF | H39: 0 | I39: =H39*F39 -> 0 | J39: 0 | K39: =J39*F39 -> 0 | L39: =J39*B$8 -> 0 | M39: =L39*F39 -> 0 | N39: =H39+L39 -> 0 | O39: =N39*F39 -> 0
A40: =IF(E40<>"",1+MAX($A$21:A39),"") -> 10 | C40: 2" Waste Pipe | D40: 40.2 | E40: 0.05 | F40: =D40*(1+E40) -> 42.21 | G40: LF | H40: 0 | I40: =H40*F40 -> 0 | J40: 0 | K40: =J40*F40 -> 0 | L40: =J40*B$8 -> 0 | M40: =L40*F40 -> 0 | N40: =H40+L40 -> 0 | O40: =N40*F40 -> 0
A41: =IF(E41<>"",1+MAX($A$21:A40),"")
A42: =IF(E42<>"",1+MAX($A$21:A41),"") -> 11 | C42: GAS PIPE | E42: SCH. 40 Black Steel
A43: =IF(E43<>"",1+MAX($A$21:A42),"")
A44: =IF(E44<>"",1+MAX($A$21:A43),"") -> 12 | C44: 1" Gas Pipe | D44: 8.53 | E44: 0.05 | F44: =D44*(1+E44) -> 8.9565 | G44: LF | H44: 0 | I44: =H44*F44 -> 0 | J44: 0 | K44: =J44*F44 -> 0 | L44: =J44*B$8 -> 0 | M44: =L44*F44 -> 0 | N44: =H44+L44 -> 0 | O44: =N44*F44 -> 0
A45: =IF(E45<>"",1+MAX($A$21:A44),"") -> 13 | C45: 1-1/2" Gas Pipe | D45: 10.9 | E45: 0.05 | F45: =D45*(1+E45) -> 11.445 | G45: LF | H45: 0 | I45: =H45*F45 -> 0 | J45: 0 | K45: =J45*F45 -> 0 | L45: =J45*B$8 -> 0 | M45: =L45*F45 -> 0 | N45: =H45+L45 -> 0 | O45: =N45*F45 -> 0
A46: =IF(E46<>"",1+MAX($A$21:A45),"") -> 14 | C46: 1-1/4" Gas Pipe | D46: 17.88 | E46: 0.05 | F46: =D46*(1+E46) -> 18.774 | G46: LF | H46: 0 | I46: =H46*F46 -> 0 | J46: 0 | K46: =J46*F46 -> 0 | L46: =J46*B$8 -> 0 | M46: =L46*F46 -> 0 | N46: =H46+L46 -> 0 | O46: =N46*F46 -> 0
...
